BEGIN:VCALENDAR
VERSION:2.0
PRODID:-//Candles Wholesale and Online Store - ECPv6.15.20//NONSGML v1.0//EN
CALSCALE:GREGORIAN
METHOD:PUBLISH
X-WR-CALNAME:Candles Wholesale and Online Store
X-ORIGINAL-URL:https://www.all-candles-wholesale.co.uk
X-WR-CALDESC:Events for Candles Wholesale and Online Store
REFRESH-INTERVAL;VALUE=DURATION:PT1H
X-Robots-Tag:noindex
X-PUBLISHED-TTL:PT1H
BEGIN:VTIMEZONE
TZID:Europe/London
BEGIN:DAYLIGHT
TZOFFSETFROM:+0000
TZOFFSETTO:+0100
TZNAME:BST
DTSTART:20170326T010000
END:DAYLIGHT
BEGIN:STANDARD
TZOFFSETFROM:+0100
TZOFFSETTO:+0000
TZNAME:GMT
DTSTART:20171029T010000
END:STANDARD
BEGIN:DAYLIGHT
TZOFFSETFROM:+0000
TZOFFSETTO:+0100
TZNAME:BST
DTSTART:20180325T010000
END:DAYLIGHT
BEGIN:STANDARD
TZOFFSETFROM:+0100
TZOFFSETTO:+0000
TZNAME:GMT
DTSTART:20181028T010000
END:STANDARD
BEGIN:DAYLIGHT
TZOFFSETFROM:+0000
TZOFFSETTO:+0100
TZNAME:BST
DTSTART:20190331T010000
END:DAYLIGHT
BEGIN:STANDARD
TZOFFSETFROM:+0100
TZOFFSETTO:+0000
TZNAME:GMT
DTSTART:20191027T010000
END:STANDARD
BEGIN:DAYLIGHT
TZOFFSETFROM:+0000
TZOFFSETTO:+0100
TZNAME:BST
DTSTART:20200329T010000
END:DAYLIGHT
BEGIN:STANDARD
TZOFFSETFROM:+0100
TZOFFSETTO:+0000
TZNAME:GMT
DTSTART:20201025T010000
END:STANDARD
END:VTIMEZONE
BEGIN:VEVENT
DTSTART;TZID=Europe/London:20190901T110000
DTEND;TZID=Europe/London:20190904T180000
DTSTAMP:20260425T140153
CREATED:20181122T170151Z
LAST-MODIFIED:20190811T062642Z
UID:3935-1567335600-1567620000@www.all-candles-wholesale.co.uk
SUMMARY:Autumn Fair 2019 - The Season's No.1 Gift & Home
DESCRIPTION:Make your market at Autumn Fair\nAutumn Fair is where retailers come to source from over 200\,000 new products for the festive period and spring season. Held in September\, it’s the perfect time to compare and find bestsellers for Christmas and other key retail spikes including Valentine’s Day\, Mother’s Day and Easter. Autumn Fair is also where retailers find products in time and in stock for their most important and profitable time of the year – the ‘Golden Quarter‘. \n\nAutumn Fair is all about orders for us\, from immediate ones for Christmas through to Valentine’s Day and Spring. It’s a good show for getting new accounts too. \nSTEVE COX\,  KEEL TOYS LTD \n\n\nWe invite you to come see\, touch\, play with and purchase the wonderful and new products on display from thousands of exciting UK and international exhibitors for your store. Looking for more than just product inspiration? Autumn Fair is also the destination to gain valuable retail insight through seminars\, workshops and video content – all under one roof. \n\nWe’ve been coming to Autumn Fair and Spring Fair for 17 years\, it’s a great opportunity to meet new customers. \nHARRY TILSON\,  SUCK UK
URL:https://www.all-candles-wholesale.co.uk/event/autumn-fair/
LOCATION:NEC Birmingham\, B40 1NT\, UK\, Birmingham\, B40 1NT\, United Kingdom
ATTACH;FMTTYPE=image/jpeg:https://www.all-candles-wholesale.co.uk/wp-content/uploads/2018/11/Autumn-Fair-min.jpg
END:VEVENT
BEGIN:VEVENT
DTSTART;TZID=Europe/London:20181209T110000
DTEND;TZID=Europe/London:20181209T160000
DTSTAMP:20260425T140153
CREATED:20181121T150408Z
LAST-MODIFIED:20181124T082232Z
UID:3927-1544353200-1544371200@www.all-candles-wholesale.co.uk
SUMMARY:LoveActuallyWeddings Christmas Wedding Fayre
DESCRIPTION:Steeped in history\, this 18th Century Palladian mansion house is an idyllic\, romantic wedding location. Set in 36 acres of classical landscape with formal gardens\, Ston Easton is perfect for small\, intimate gatherings as well as large celebrations. Licensed for ceremonies with a choice of several unique reception areas and luxury on-site guest accommodation.\nCome to the show to view the venue and gain inspiration from the range of experienced exhibitors.\nFree entry\, goody bag and opportunity to enter a prize draw for luxury honeymoon.\nPre-register to save time on the day.
URL:https://www.all-candles-wholesale.co.uk/event/christmas-wedding-fayre/
LOCATION:LoveActuallyWeddings Christmas Wedding Fayre\, Anchor Road\, Bristol\, BS1 5DB\, United Kingdom
ATTACH;FMTTYPE=image/jpeg:https://www.all-candles-wholesale.co.uk/wp-content/uploads/2018/11/florencja-mat-slubna-florencja-mat-slubna-min.jpg
END:VEVENT
BEGIN:VEVENT
DTSTART;TZID=Europe/London:20181021T120000
DTEND;TZID=Europe/London:20181021T160000
DTSTAMP:20260425T140153
CREATED:20181021T073255Z
LAST-MODIFIED:20181021T073255Z
UID:3764-1540123200-1540137600@www.all-candles-wholesale.co.uk
SUMMARY:Meet Bristol''s Best Wedding Suppliers!
DESCRIPTION:Wedding Fayre FREE ENTRY Join us for fizz and canapés at our wedding fayre at the breathtaking Bristol Harbour Hotel. Meet expert suppliers for all aspects of your Big Day. See the stunning venue and discuss your dream Wedding with our experienced Wedding coordinators. Free Goodie Bag for the first 50 new couples and special book on the day offers.
URL:https://www.all-candles-wholesale.co.uk/event/meet-bristols-best-wedding-suppliers/
LOCATION:Bristol Harbour Hotel & Spa\, 49 - 55 Corn Street\, Bristol\, BS1 1HT\, United Kingdom
ATTACH;FMTTYPE=image/jpeg:https://www.all-candles-wholesale.co.uk/wp-content/uploads/2018/10/andalo-slubna-andalo-slubna-min.jpg
END:VEVENT
END:VCALENDAR